BEGIN:VCALENDAR
PRODID:-//Cornell Cooperative Extension of Orange County//NONSGML Cornell Cooperative Extension of Orange County Events//EN
X-ORIGINAL-URL:
VERSION:2.0
CALSCALE:GREGORIAN
METHOD:PUBLISH
BEGIN:VEVENT
METHOD: PUBLISH
X-MS-OLK-FORCEINSPECTOROPEN:TRUE
DTSTART:20260423T180600
DTEND:20260423T180600
SUMMARY:2026 Out in the Garden: 30-Minute Gardening Lessons @ Common Ground Community Garden in Greenwood Lake
DTSTAMP:20110121T170000
LAST-MODIFIED:20260420T130140
CREATED:20260403T200840
SEQUENCE:0
TRANSP:TRANSPARENT
UID:32875
LOCATION:
URL:http://cceorangecounty.org/events/2026/04/23/2026-out-in-the-garden-30-minute-gardening-lessons-common-ground-community-garden-in-greenwood-lake
DESCRIPTION: Join us on the 4th&amp;nbsp;Thursday of the month&amp;nbsp;at the Common Ground Community Garden in Greenwood Lakefor short hands-on gardening lesson.   	Sessions will take place in the Common Ground COmmunity Garden&amp;nbsp; located at 13 Poplar Street in Greenwood Lake.&amp;nbsp; 	This is a free program!If you have any questions, please email Chad&amp;nbsp;Pilieri at&amp;nbsp;gwl@gmail.com.  	The same program is also being held on different days at two other locations. More information coming soon! 	Newburgh Armory Community Garden	Town of Monroe Community Garden  Out in the Garden Schedule    	 		Date 		 	 	 		Gardening Lesson 		 	 	 		Description 	   	 		Thursday, April 23 @ 6:00 pm  		 	 	 		Planning your Vegetable Garden 		 	 	 		 			There   are so many different kinds of vegetables to grow! Come learn the basics of   planning your vegetable garden so that your plants are in a place where they   can thrive.&amp;nbsp; 		 	   	 		Thursday, May 28 @ 6:00 pm 		 	 	 		Direct Seeding and Transplanting 		 	 	 		 			Now   that the ground has warmed, it is time to get all of your plants in the   ground. Join us in the garden to learn proper seeding and transplanting   techniques. 		 	   	 		Thursday, June 25 @ 6:00 pm 		 	 	 		Garden Maintenance 		 	 	 		Watering and weeding seem to be everlasting jobs. Learn tricks reduce the time you spend watering and weeding your garden. 		 	   	 		Thursday, July 23 @ 6:00 pm 		 	 	 		Pest Management 		 	 	 		Do you ever wonder if an insect is a friend or foe?&amp;nbsp; Come learn about garden insects as well as common vegetable diseases.  		 	   	 		Thursday, August 27 @ 6:00 pm 		 	 	 		Harvesting &amp; Cooking 		 	 	 		Late summer abounds with delicious produce. Learn the proper way to harvest, store, and prepare your bounty.  		 	   	 		Thursday, September 24 @ 6:00 pm 		 	 	 		Fall Gardening 		 	 	 		 			Come   learn what crops thrive in the cool fall weather as well as what plants can   be planted in fall for spring and summer harvest next year. Learn what you can leave in the garden and what should   be removed as well as techniques to protect your soil during the coming   winter. 		 	    
CLASS:PUBLIC
CATEGORIES:
STATUS:CONFIRMED
END:VEVENT
END:VCALENDAR
n/a